BEGIN:VCALENDAR
VERSION:2.0
PRODID:-//himmlischeberufe.eki-musterhausen.de//NONSGML kigkonsult.se iCalcreator 2.41.92//
CALSCALE:GREGORIAN
METHOD:PUBLISH
UID:31383430-3331-4465-a539-353630636134
X-WR-TIMEZONE:Europe/Berlin
X-LIC-LOCATION:Europe/Berlin
BEGIN:VTIMEZONE
TZID:Europe/Berlin
BEGIN:DAYLIGHT
TZOFFSETFROM:+0100
TZOFFSETTO:+0200
TZNAME:CEST
DTSTART:19700329T020000
RRULE:FREQ=YEARLY;BYDAY=-1SU;BYMONTH=3
END:DAYLIGHT
BEGIN:STANDARD
TZOFFSETFROM:+0200
TZOFFSETTO:+0100
TZNAME:CET
DTSTART:19701025T030000
RRULE:FREQ=YEARLY;BYDAY=-1SU;BYMONTH=10
END:STANDARD
END:VTIMEZONE
BEGIN:VEVENT
UID:64623535-3063-4333-b239-313539376463
DTSTAMP:20260421T183924Z
DESCRIPTION:Orientierungstag „Kirchliche Berufe“ – Entdecke deine Zukunft!
 \n \n Den gemeinsamen Orientierungstag Kirchliche Berufe Religionspädagogi
 k\, Theologie & Soziales für Schüler*innen\, mit vielen Infos\, Spielen & 
 Austauschformaten zu den Berufsgruppen „Diakon*in\, Pfarrer*in\, Religions
 lehrer*in!\n \n Veranstaltungsort:\n Evangelische Studierendengemeinde Hei
 delberg\n Plöck 66\, 69117 Heidelberg\n \n Veranstalter:\n Himmlische Beru
 fe 'Nachwuchsgewinnung'
DTSTART;TZID=Europe/Berlin:20260613T100000
DTEND;TZID=Europe/Berlin:20260613T170000
LOCATION:Evangelische Studierendengemeinde Heidelberg\n - Plöck 66\, 69117 
 Heidelberg
SUMMARY:Religionspädagogik\, Theologie und Soziales
X-ALT-DESC;FMTTYPE=text/html:Orientierungstag „Kirchliche Berufe“ – Entdeck
 e deine Zukunft!<br /><br />Den gemeinsamen Orientierungstag Kirchliche Be
 rufe\n Religionspädagogik\, Theologie & Soziales\n für Schüler*innen\, mit
  vielen Infos\, Spielen & Austauschformaten zu den Berufsgruppen „Diakon*i
 n\, Pfarrer*in\, Religionslehrer*in!<br /><br />Veranstaltungsort: <br />E
 vangelische Studierendengemeinde Heidelberg<br />Plöck 66\, 69117 Heidelbe
 rg<br /><br />Veranstalter: <br />Himmlische Berufe 'Nachwuchsgewinnung'
END:VEVENT
END:VCALENDAR
