BEGIN:VCALENDAR
VERSION:2.0
PRODID:-//himmlischeberufe.eki-musterhausen.de//NONSGML kigkonsult.se iCalcreator 2.41.92//
CALSCALE:GREGORIAN
METHOD:PUBLISH
UID:35363661-6662-4933-b138-363736343536
X-WR-TIMEZONE:Europe/Berlin
X-LIC-LOCATION:Europe/Berlin
BEGIN:VTIMEZONE
TZID:Europe/Berlin
BEGIN:DAYLIGHT
TZOFFSETFROM:+0100
TZOFFSETTO:+0200
TZNAME:CEST
DTSTART:19700329T020000
RRULE:FREQ=YEARLY;BYDAY=-1SU;BYMONTH=3
END:DAYLIGHT
BEGIN:STANDARD
TZOFFSETFROM:+0200
TZOFFSETTO:+0100
TZNAME:CET
DTSTART:19701025T030000
RRULE:FREQ=YEARLY;BYDAY=-1SU;BYMONTH=10
END:STANDARD
END:VTIMEZONE
BEGIN:VEVENT
UID:36333462-6462-4338-a131-643034313835
DTSTAMP:20260421T201145Z
DESCRIPTION:Wir sind dabei! Berufsmesse WHAT in Weinheim am Mittwoch\, den 
 17. Juni 2026.\n \n Veranstaltungsort:\n Stadthalle Weinheim\, Birkenauer 
 Talstraße 1\, 69469 Weinheim\n \n Veranstalter:\n Himmlische Berufe 'Nachw
 uchsgewinnung'
DTSTART;TZID=Europe/Berlin:20260617T090000
DTEND;TZID=Europe/Berlin:20260617T160000
LOCATION:Stadthalle Weinheim\, Birkenauer Talstraße 1\, 69469 Weinheim
SUMMARY:Himmlische Berufe auf der WHAT in Weinheim
X-ALT-DESC;FMTTYPE=text/html:Wir sind dabei!\n Berufsmesse WHAT in Weinheim
  am Mittwoch\, den 17. Juni 2026.<br /><br />Veranstaltungsort: <br />Stad
 thalle Weinheim\, Birkenauer Talstraße 1\, 69469 Weinheim<br /><br />Veran
 stalter: <br />Himmlische Berufe 'Nachwuchsgewinnung'
END:VEVENT
END:VCALENDAR
