BEGIN:VCALENDAR
VERSION:2.0
PRODID:-//himmlischeberufe.eki-musterhausen.de//NONSGML kigkonsult.se iCalcreator 2.41.92//
CALSCALE:GREGORIAN
METHOD:PUBLISH
UID:32313163-3136-4034-b039-306433333534
X-WR-TIMEZONE:Europe/Berlin
X-LIC-LOCATION:Europe/Berlin
BEGIN:VTIMEZONE
TZID:Europe/Berlin
BEGIN:DAYLIGHT
TZOFFSETFROM:+0100
TZOFFSETTO:+0200
TZNAME:CEST
DTSTART:19700329T020000
RRULE:FREQ=YEARLY;BYDAY=-1SU;BYMONTH=3
END:DAYLIGHT
BEGIN:STANDARD
TZOFFSETFROM:+0200
TZOFFSETTO:+0100
TZNAME:CET
DTSTART:19701025T030000
RRULE:FREQ=YEARLY;BYDAY=-1SU;BYMONTH=10
END:STANDARD
END:VTIMEZONE
BEGIN:VEVENT
UID:66376431-3634-4963-b465-663337313338
DTSTAMP:20260422T005105Z
DESCRIPTION:Himmlische Berufe beim CVJM Badentreff – Wir sind dabei!\n \n V
 eranstaltungsort:\n Altenbürgzentrum 1\, 76689 Karlsdorf-Neuthard\n \n Ver
 anstalter:\n Himmlische Berufe 'Nachwuchsgewinnung'
DTSTART;TZID=Europe/Berlin:20260704T100000
DTEND;TZID=Europe/Berlin:20260704T180000
LOCATION:Altenbürgzentrum 1\, 76689 Karlsdorf-Neuthard
SUMMARY:Himmlische Berufe beim CVJM Badentreff
X-ALT-DESC;FMTTYPE=text/html:Himmlische Berufe beim CVJM Badentreff – Wir s
 ind dabei!<br /><br />Veranstaltungsort: <br />Altenbürgzentrum 1\, 76689 
 Karlsdorf-Neuthard<br /><br />Veranstalter: <br />Himmlische Berufe 'Nachw
 uchsgewinnung'
END:VEVENT
END:VCALENDAR
